Workbook

Sheet Sheet1
A1: 附件 魔芋基地建设情况表（第二批）
A2: 序号 | B2: 乡镇 | C2: 主体 | D2: 魔芋基地（亩） | F2: 合计（亩） | G2: 备注
D3: 种芋 | E3: 商品芋
A4: 1 | B4: 永福镇 | C4: 沐川才银魔芋种植专业合作社 | D4: 309.33 | E4: 88.48 | F4: =D4+E4 -> 397.81
A5: 2 | C5: 雷朝强 | D5: 8.1 | F5: =D5+E5 -> 8.1
A6: 3 | C6: 代光清 | D6: 3 | F6: =D6+E6 -> 3
A7: 4 | C7: 王本章 | D7: 1.05 | F7: =D7+E7 -> 1.05
A8: 5 | C8: 沐川水沐连华魔芋种植专业合作社 | D8: 249.82 | E8: 84.51 | F8: =D8+E8 -> 334.33
A9: 6 | C9: 沐川县富隆种植专业合作社 | D9: 124 | F9: =D9+E9 -> 124
A10: 7 | C10: 沐川县青平家庭农场 | D10: 50 | E10: 50 | F10: =D10+E10 -> 100
A11: 8 | C11: 代岭君 | D11: 29.94 | F11: =D11+E11 -> 29.94
A12: 9 | C12: 曹立伦 | D12: 3.2 | F12: =D12+E12 -> 3.2
A13: 10 | C13: 侯成礼 | D13: 18.43 | E13: 4.17 | F13: =D13+E13 -> 22.6
A14: 11 | C14: 侯杰 | D14: 1.76 | F14: =D14+E14 -> 1.76
A15: 12 | C15: 沐川县程鑫蔬菜种植场 | D15: 129.85 | E15: 71.76 | F15: =D15+E15 -> 201.61
A16: 13 | C16: 沐川县永发蔬菜种植合作社 | D16: 121.7 | E16: 5.2 | F16: =D16+E16 -> 126.9
A17: 14 | C17: 沐川县韦佐洪种植家庭农场(个体工商户) | D17: 170.39 | E17: 23.5 | F17: =D17+E17 -> 193.89
A18: 15 | C18: 沐川县吴俊建种植家庭农场(个体工商户) | D18: 192.81 | E18: 17.5 | F18: =D18+E18 -> 210.31
A19: 16 | C19: 杨国君 | D19: 64.56 | E19: 5.12 | F19: =D19+E19 -> 69.68
A20: 17 | B20: 利店镇 | C20: 罗光银 | E20: 3 | F20: =D20+E20 -> 3
A21: 18 | C21: 宋开友 | E21: 5.22 | F21: =D21+E21 -> 5.22
A22: 19 | B22: 底堡乡 | C22: 乐山随芋而安劳务服务有限公司 | D22: 2.43 | E22: 30.05 | F22: =D22+E22 -> 32.48
A23: 20 | C23: 乐山鑫亚晟农业发展有限责任公司 | D23: 79.82 | E23: 37.79 | F23: =D23+E23 -> 117.61
A24: 21 | C24: 乐芋家庭农场 | D24: 42.5 | E24: 8.9 | F24: =D24+E24 -> 51.4
A25: 22 | C25: 沐川西大魔芋生物科技有限公司 | D25: 197.75 | E25: 17.35 | F25: =D25+E25 -> 215.1
A26: 23 | C26: 沐川县阿文家庭农场 | E26: =192.05-0.34 -> 191.71 | F26: =D26+E26 -> 191.71
A27: 24 | C27: 沐川县根尚家庭农场 | E27: 15.7 | F27: =D27+E27 -> 15.7
A28: 25 | C28: 沐川县禾立家庭农场 | E28: 29.2 | F28: =D28+E28 -> 29.2
A29: 26 | C29: 沐川县宏升魔芋种植专业合作社 | D29: 7.73 | E29: 21.1 | F29: =D29+E29 -> 28.83
A30: 27 | C30: 沐川县宏杨魔芋种植专业合作社 | D30: 2.7 | E30: 48.35 | F30: =D30+E30 -> 51.05
A31: 28 | C31: 沐川县鸿泰魔芋种植专业合作社 | E31: 4 | F31: =D31+E31 -> 4
A32: 29 | C32: 沐川县铭德种养殖场 | D32: 56.27 | E32: 138.35 | F32: =D32+E32 -> 194.62
A33: 30 | C33: 沐川县农耕魔芋种植专业合作社 | E33: 77.55 | F33: =D33+E33 -> 77.55
A34: 31 | C34: 沐川县泉涌农场 | D34: 1 | E34: 41.57 | F34: =D34+E34 -> 42.57
A35: 32 | C35: 沐川县蜀禾魔芋种植专业合作社 | E35: 14.43 | F35: =D35+E35 -> 14.43
A36: 33 | C36: 沐川县鑫旺达魔芋种植专业合作社 | E36: 5 | F36: =D36+E36 -> 5
A37: 34 | C37: 邓昌奎 | E37: 1 | F37: =D37+E37 -> 1
A38: 35 | C38: 邓仕和 | E38: 1.3 | F38: =D38+E38 -> 1.3
A39: 36 | C39: 邓仕奇 | E39: 2.32 | F39: =D39+E39 -> 2.32
A40: 37 | C40: 邓仕雄 | E40: 2 | F40: =D40+E40 -> 2
A41: 38 | C41: 邓仕宣 | D41: 1.47 | F41: =D41+E41 -> 1.47
A42: 39 | C42: 古成军 | D42: 0.59 | E42: 1.04 | F42: =D42+E42 -> 1.63
A43: 40 | C43: 兰吉林 | D43: 1.31 | E43: 0.94 | F43: =D43+E43 -> 2.25
A44: 41 | C44: 李代容 | E44: 3.1 | F44: =D44+E44 -> 3.1
A45: 42 | C45: 李光军 | E45: 2.7 | F45: =D45+E45 -> 2.7
A46: 43 | C46: 廖朝兴 | E46: 4.01 | F46: =D46+E46 -> 4.01
A47: 44 | C47: 廖树银 | D47: 1.08 | F47: =D47+E47 -> 1.08
A48: 45 | C48: 廖廷交 | D48: 2.17 | F48: =D48+E48 -> 2.17
A49: 46 | C49: 刘兴全 | E49: 11.88 | F49: =D49+E49 -> 11.88
A50: 47 | C50: 汤富奎 | E50: 6.22 | F50: =D50+E50 -> 6.22
A51: 48 | C51: 王万银 | D51: 0.52 | E51: 0.5 | F51: =D51+E51 -> 1.02
A52: 49 | C52: 王显林 | D52: 1.45 | E52: 0.5 | F52: =D52+E52 -> 1.95
A53: 50 | C53: 王显强 | D53: 1.15 | F53: =D53+E53 -> 1.15
A54: 51 | C54: 王显勇 | E54: 1.6 | F54: =D54+E54 -> 1.6
A55: 52 | C55: 王旭红 | D55: 1 | F55: =D55+E55 -> 1
A56: 53 | C56: 徐泽洲 | E56: 1.37 | F56: =D56+E56 -> 1.37
A57: 54 | C57: 杨定双 | D57: 0.22 | E57: 0.99 | F57: =D57+E57 -> 1.21
A58: 55 | C58: 悦勋华 | D58: 1.86 | F58: =D58+E58 -> 1.86
A59: 56 | C59: 张加兴 | E59: 1.02 | F59: =D59+E59 -> 1.02
A60: 57 | C60: 周仕琼 | E60: 2 | F60: =D60+E60 -> 2
A61: 58 | C61: 陈贵平 | E61: 2.97 | F61: =D61+E61 -> 2.97
A62: 59 | C62: 陈辉亮 | E62: 1.36 | F62: =D62+E62 -> 1.36
A63: 60 | C63: 陈辉渠 | D63: 3.89 | F63: =D63+E63 -> 3.89
A64: 61 | C64: 邓昌文 | D64: 8.3 | F64: =D64+E64 -> 8.3
A65: 62 | C65: 黄应平 | D65: 2.28 | F65: =D65+E65 -> 2.28
A66: 63 | C66: 廖策华 | D66: 10.3 | F66: =D66+E66 -> 10.3
A67: 64 | C67: 牟玉明 | E67: 6.78 | F67: =D67+E67 -> 6.78
A68: 65 | C68: 王明才 | D68: 7.02 | E68: 12.89 | F68: =D68+E68 -> 19.91
A69: 66 | C69: 王勇 | E69: 1 | F69: =D69+E69 -> 1 | G69: 水月村
A70: 67 | C70: 胡理贵 | E70: 8.88 | F70: =D70+E70 -> 8.88
A71: 68 | C71: 王治洪 | E71: 1.5 | F71: =D71+E71 -> 1.5
A72: 69 | C72: 王自高 | E72: 1.03 | F72: =D72+E72 -> 1.03
A73: 70 | C73: 文永高 | E73: 1 | F73: =D73+E73 -> 1
A74: 71 | C74: 文永忠 | E74: 1.06 | F74: =D74+E74 -> 1.06
A75: 72 | C75: 闫涛 | E75: 1.51 | F75: =D75+E75 -> 1.51
A76: 73 | C76: 杨维银 | E76: 1.32 | F76: =D76+E76 -> 1.32
A77: 74 | C77: 张光成 | E77: 1.08 | F77: =D77+E77 -> 1.08
A78: 75 | C78: 陈克珍 | D78: 1.58 | F78: =D78+E78 -> 1.58
A79: 76 | C79: 邓昌陆 | D79: 1.1 | F79: =D79+E79 -> 1.1
A80: 77 | C80: 黄定盆 | E80: 1.89 | F80: =D80+E80 -> 1.89
A81: 78 | C81: 兰代斌 | E81: 1 | F81: =D81+E81 -> 1
A82: 79 | C82: 李天军 | E82: 1 | F82: =D82+E82 -> 1
A83: 80 | C83: 李泽华 | E83: 1.8 | F83: =D83+E83 -> 1.8
A84: 81 | C84: 李泽伦 | E84: 1.46 | F84: =D84+E84 -> 1.46
A85: 82 | C85: 刘登厚 | E85: 1.8 | F85: =D85+E85 -> 1.8
A86: 83 | C86: 刘国厚 | E86: 1.6 | F86: =D86+E86 -> 1.6
A87: 84 | C87: 刘平 | E87: 3.1 | F87: =D87+E87 -> 3.1
A88: 85 | C88: 刘松明 | E88: 5.35 | F88: =D88+E88 -> 5.35
A89: 86 | C89: 刘兴文 | E89: 1 | F89: =D89+E89 -> 1
A90: 87 | C90: 刘兴远 | E90: 1.1 | F90: =D90+E90 -> 1.1
A91: 88 | C91: 柳连友 | E91: 4.05 | F91: =D91+E91 -> 4.05
... A96: 93 | C96: 欧万银 | E96: 1.5 | F96: =D96+E96 -> 1.5
A97: 94 | C97: 谭国纯 | D97: 1.66 | F97: =D97+E97 -> 1.66
A98: 95 | C98: 谭益凯 | E98: 1.99 | F98: =D98+E98 -> 1.99
A99: 96 | C99: 谭益志 | E99: 3.85 | F99: =D99+E99 -> 3.85
A100: 97 | C100: 唐国宣 | E100: 1 | F100: =D100+E100 -> 1
A101: 98 | C101: 王佰云 | D101: 1.99 | F101: =D101+E101 -> 1.99
A102: 99 | C102: 王炳光 | D102: 1 | F102: =D102+E102 -> 1
A103: 100 | C103: 王胜才 | E103: 1.41 | F103: =D103+E103 -> 1.41
A104: 101 | C104: 王先庭 | D104: 4.05 | E104: 5.38 | F104: =D104+E104 -> 9.43
...

Sheet Sheet2
A1: 主体 | B1: 种芋/商品芋 | C1: 面积（亩）
A2: 乐山鑫亚晟农业发展有限责任公司 | B2: 商品芋 | C2: 6.84
A3: 乐山鑫亚晟农业发展有限责任公司 | B3: 种芋 | C3: 7.5
A4: 乐山鑫亚晟农业发展有限责任公司 | B4: 种芋 | C4: 0.38
A5: 乐山鑫亚晟农业发展有限责任公司 | B5: 种芋 | C5: 2.93
A6: 乐山鑫亚晟农业发展有限责任公司 | B6: 种芋 | C6: 3.96
A7: 乐山鑫亚晟农业发展有限责任公司 | B7: 种芋 | C7: 5.66
A8: 乐山鑫亚晟农业发展有限责任公司 | B8: 种芋 | C8: 5.27
A9: 乐山鑫亚晟农业发展有限责任公司 | B9: 商品芋 | C9: 5.91
A10: 乐山鑫亚晟农业发展有限责任公司 | B10: 商品芋 | C10: 10.28
A11: 乐山鑫亚晟农业发展有限责任公司 | B11: 种芋 | C11: 8.93
A12: 乐山鑫亚晟农业发展有限责任公司 | B12: 商品芋 | C12: 5.97
A13: 乐山鑫亚晟农业发展有限责任公司 | B13: 种芋 | C13: 5.26
... A341: 王万银 | B341: 种芋 | C341: 0.52
C342: 2189.45

Sheet Sheet6
C1: 种芋
A2: 乐山鑫亚晟农业发展有限责任公司 汇总 | B2: =LEFT(A2,LEN(A2)-2) -> 乐山鑫亚晟农业发展有限责任公司 | C2: =VLOOKUP(A2,Sheet9!$1:$1048576,2,1) -> 8.3 | D2: 37.79
A3: 沐川县宏杨魔芋种植专业合作社 汇总 | B3: =LEFT(A3,LEN(A3)-2) -> 沐川县宏杨魔芋种植专业合作社 | C3: =VLOOKUP(A3,Sheet9!$1:$1048576,2,1) -> 10.3 | D3: 58.35
A4: 沐川西大魔芋生物科技有限公司 汇总 | B4: =LEFT(A4,LEN(A4)-2) -> 沐川西大魔芋生物科技有限公司 | C4: =VLOOKUP(A4,Sheet9!$1:$1048576,2,1) -> 10.3 | D4: 18.35
A5: 乐山随芋而安劳务服务有限公司 汇总 | B5: =LEFT(A5,LEN(A5)-2) -> 乐山随芋而安劳务服务有限公司 | C5: =VLOOKUP(A5,Sheet9!$1:$1048576,2,1) -> 8.3 | D5: 42.55
A6: 沐川县潘飞种植场 汇总 | B6: =LEFT(A6,LEN(A6)-2) -> 沐川县潘飞种植场 | C6: =VLOOKUP(A6,Sheet9!$1:$1048576,2,1) -> 10.3 | D6: 105
A7: 沐川县泉涌农场 汇总 | B7: =LEFT(A7,LEN(A7)-2) -> 沐川县泉涌农场 | C7: =VLOOKUP(A7,Sheet9!$1:$1048576,2,1) -> 10.3 | D7: 81.08
A8: 乐芋家庭农场 汇总 | B8: =LEFT(A8,LEN(A8)-2) -> 乐芋家庭农场 | C8: =VLOOKUP(A8,Sheet9!$1:$1048576,2,1) -> 8.3 | D8: 10.9
A9: 沐川县禾立家庭农场 汇总 | B9: =LEFT(A9,LEN(A9)-2) -> 沐川县禾立家庭农场 | C9: =VLOOKUP(A9,Sheet9!$1:$1048576,2,1) -> 10.3 | D9: 50.2
A10: 沐川县阿文家庭农场 汇总 | B10: =LEFT(A10,LEN(A10)-2) -> 沐川县阿文家庭农场 | C10: =VLOOKUP(A10,Sheet9!$1:$1048576,2,1) -> 10.3 | D10: 222.89
A11: 沐川县蜀禾魔芋种植专业合作社 汇总 | B11: =LEFT(A11,LEN(A11)-2) -> 沐川县蜀禾魔芋种植专业合作社 | C11: =VLOOKUP(A11,Sheet9!$1:$1048576,2,1) -> 10.3 | D11: 84.43
A12: 沐川县宏升魔芋种植专业合作社 汇总 | B12: =LEFT(A12,LEN(A12)-2) -> 沐川县宏升魔芋种植专业合作社 | C12: =VLOOKUP(A12,Sheet9!$1:$1048576,2,1) -> 10.3 | D12: 171.1
A13: 沐川县铭德种养殖场 汇总 | B13: =LEFT(A13,LEN(A13)-2) -> 沐川县铭德种养殖场 | C13: =VLOOKUP(A13,Sheet9!$1:$1048576,2,1) -> 10.3 | D13: 164.85
... A18: 王明才 汇总 | B18: =LEFT(A18,LEN(A18)-2) -> 王明才 | C18: =VLOOKUP(A18,Sheet9!$1:$1048576,2,1) -> 10.3 | D18: 12.89
A19: 陈贵平 汇总 | B19: =LEFT(A19,LEN(A19)-2) -> 陈贵平 | C19: 0 | D19: 2.97
A20: 陈辉亮 汇总 | B20: =LEFT(A20,LEN(A20)-2) -> 陈辉亮 | C20: 0 | D20: 1.36
A21: 牟玉明 汇总 | B21: =LEFT(A21,LEN(A21)-2) -> 牟玉明 | C21: =VLOOKUP(A21,Sheet9!$1:$1048576,2,1) -> 10.3 | D21: 6.78
A22: 王勇 汇总 | B22: =LEFT(A22,LEN(A22)-2) -> 王勇 | C22: =VLOOKUP(A22,Sheet9!$1:$1048576,2,1) -> 0.52 | D22: 1
A23: 刘兴全 汇总 | B23: =LEFT(A23,LEN(A23)-2) -> 刘兴全 | C23: =VLOOKUP(A23,Sheet9!$1:$1048576,2,1) -> 10.3 | D23: 11.88
A24: 兰吉林 汇总 | B24: =LEFT(A24,LEN(A24)-2) -> 兰吉林 | C24: =VLOOKUP(A24,Sheet9!$1:$1048576,2,1) -> 8.3 | D24: 0.94
A25: 王显林 汇总 | B25: =LEFT(A25,LEN(A25)-2) -> 王显林 | C25: =VLOOKUP(A25,Sheet9!$1:$1048576,2,1) -> 0.52 | D25: 0.5
A26: 杨定双 汇总 | B26: =LEFT(A26,LEN(A26)-2) -> 杨定双 | C26: =VLOOKUP(A26,Sheet9!$1:$1048576,2,1) -> 0.52 | D26: 0.99
A27: 古成军 汇总 | B27: =LEFT(A27,LEN(A27)-2) -> 古成军 | C27: =VLOOKUP(A27,Sheet9!$1:$1048576,2,1) -> 8.3 | D27: 1.04
A28: 廖朝兴 汇总 | B28: =LEFT(A28,LEN(A28)-2) -> 廖朝兴 | C28: =VLOOKUP(A28,Sheet9!$1:$1048576,2,1) -> 10.3 | D28: 4.01
A29: 邓昌奎 汇总 | B29: =LEFT(A29,LEN(A29)-2) -> 邓昌奎 | C29: 0 | D29: 1
A30: 张加兴 汇总 | B30: =LEFT(A30,LEN(A30)-2) -> 张加兴 | C30: =VLOOKUP(A30,Sheet9!$1:$1048576,2,1) -> 0.52 | D30: 1.02
A31: 邓仕雄 汇总 | B31: =LEFT(A31,LEN(A31)-2) -> 邓仕雄 | C31: =VLOOKUP(A31,Sheet9!$1:$1048576,2,1) -> 8.3 | D31: 2
A32: 邓仕和 汇总 | B32: =LEFT(A32,LEN(A32)-2) -> 邓仕和 | C32: =VLOOKUP(A32,Sheet9!$1:$1048576,2,1) -> 8.3 | D32: 1.3
A33: 汤富奎 汇总 | B33: =LEFT(A33,LEN(A33)-2) -> 汤富奎 | C33: =VLOOKUP(A33,Sheet9!$1:$1048576,2,1) -> 10.3 | D33: 6.22
A34: 王显勇 汇总 | B34: =LEFT(A34,LEN(A34)-2) -> 王显勇 | C34: =VLOOKUP(A34,Sheet9!$1:$1048576,2,1) -> 0.52 | D34: 1.6
A35: 李代容 汇总 | B35: =LEFT(A35,LEN(A35)-2) -> 李代容 | C35: =VLOOKUP(A35,Sheet9!$1:$1048576,2,1) -> 8.3 | D35: 3.1
A36: 周仕琼 汇总 | B36: =LEFT(A36,LEN(A36)-2) -> 周仕琼 | C36: =VLOOKUP(A36,Sheet9!$1:$1048576,2,1) -> 0.52 | D36: 2
A37: 邓仕奇 汇总 | B37: =LEFT(A37,LEN(A37)-2) -> 邓仕奇 | C37: =VLOOKUP(A37,Sheet9!$1:$1048576,2,1) -> 8.3 | D37: 2.32
A38: 李光军 汇总 | B38: =LEFT(A38,LEN(A38)-2) -> 李光军 | C38: =VLOOKUP(A38,Sheet9!$1:$1048576,2,1) -> 8.3 | D38: 2.7
A39: 胡理贵 汇总 | B39: =LEFT(A39,LEN(A39)-2) -> 胡理贵 | C39: =VLOOKUP(A39,Sheet9!$1:$1048576,2,1) -> 8.3 | D39: 8.88
A40: 张光成 汇总 | B40: =LEFT(A40,LEN(A40)-2) -> 张光成 | C40: =VLOOKUP(A40,Sheet9!$1:$1048576,2,1) -> 0.52 | D40: 1.08
A41: 王自高 汇总 | B41: =LEFT(A41,LEN(A41)-2) -> 王自高 | C41: =VLOOKUP(A41,Sheet9!$1:$1048576,2,1) -> 0.52 | D41: 1.03
... A78: 罗应平 汇总 | B78: =LEFT(A78,LEN(A78)-2) -> 罗应平 | C78: =VLOOKUP(A78,Sheet9!$1:$1048576,2,1) -> 10.3 | D78: 1
A79: 陈历满 汇总 | B79: =LEFT(A79,LEN(A79)-2) -> 陈历满 | C79: 0 | D79: 17.2
A80: 徐泽洲 汇总 | B80: =LEFT(A80,LEN(A80)-2) -> 徐泽洲 | C80: =VLOOKUP(A80,Sheet9!$1:$1048576,2,1) -> 0.52 | D80: 1.37
A81: 余胜良 汇总 | B81: =LEFT(A81,LEN(A81)-2) -> 余胜良 | C81: =VLOOKUP(A81,Sheet9!$1:$1048576,2,1) -> 0.52 | D81: 2
A82: 王万银 汇总 | B82: =LEFT(A82,LEN(A82)-2) -> 王万银 | C82: =VLOOKUP(A82,Sheet9!$1:$1048576,2,1) -> 0.52 | D82: 0.5

Sheet Sheet9
A1: 乐山鑫亚晟农业发展有限责任公司 汇总 | B1: 79.82
A2: 沐川县宏杨魔芋种植专业合作社 汇总 | B2: 2.7
A3: 沐川西大魔芋生物科技有限公司 汇总 | B3: 198.95
A4: 乐山随芋而安劳务服务有限公司 汇总 | B4: 2.43
A5: 沐川县才平家庭农场 汇总 | B5: 72
A6: 沐川县潘飞种植场 汇总 | B6: 3
A7: 沐川县泉涌农场 汇总 | B7: 20.61
A8: 乐芋家庭农场 汇总 | B8: 43.8
A9: 沐川县阿文家庭农场 汇总 | B9: 3
A10: 沐川县宏升魔芋种植专业合作社 汇总 | B10: 7.73
A11: 沐川县铭德种养殖场 汇总 | B11: 77.69
A12: 王明才 汇总 | B12: 7.02
... A34: 王万银 汇总 | B34: 0.52

Sheet Sheet10
A1: 邓昌奎
A2: 邓仕和
A3: 邓仕奇
A4: 邓仕雄
A5: 邓仕宣
A6: 古成军
A7: 兰吉林
A8: 李代容
A9: 李光军
A10: 廖朝兴
A11: 廖树银
A12: 廖廷交
... A81: 陈历满

Sheet Sheet11
A1: 龙沱村 | B1: 邓昌奎 | D1: 1
B2: 邓仕和 | D2: 1.3
B3: 邓仕奇 | D3: 2.32
B4: 邓仕雄 | D4: 2
B5: 邓仕宣 | C5: 1.47
B6: 古成军 | C6: 0.59 | D6: 1.04
B7: 兰吉林 | C7: 1.31 | D7: 0.94
B8: 李代容 | D8: 3.1
B9: 李光军 | D9: 2.7
B10: 廖朝兴 | D10: 4.01
B11: 廖树银 | C11: 1.08
B12: 廖廷交 | C12: 2.17
B13: 刘兴全 | D13: 11.88
B14: 汤富奎 | D14: 6.22
B15: 王万银 | C15: 0.52 | D15: 0.5
B16: 王显林 | C16: 1.45 | D16: 0.5
B17: 王显强 | C17: 1.15
B18: 王显勇 | D18: 1.6
B19: 王旭红 | C19: 1
B20: 徐泽洲 | D20: 1.37
B21: 杨定双 | C21: 0.22 | D21: 0.99
B22: 悦勋华 | C22: 1.86
B23: 张加兴 | D23: 1.02
B24: 周仕琼 | D24: 2
A25: 龙沱村 汇总 | C25: 12.82 | D25: 44.49
A26: 水月村 | B26: 陈贵平 | D26: 2.97
B27: 陈辉亮 | D27: 1.36
B28: 陈辉渠 | C28: 3.89
B29: 邓昌文 | C29: 8.3
B30: 黄应平 | C30: 2.28
B31: 廖策华 | C31: 10.3
B32: 牟玉明 | D32: 6.78
B33: 王明才 | C33: 7.02 | D33: 12.89
B34: 王勇 | D34: 1
A35: 水月村 汇总 | C35: 31.79 | D35: 25
A36: 卫国村 | B36: 胡理贵 | D36: 8.88
B37: 王治洪 | D37: 1.5
B38: 王自高 | D38: 1.03
B39: 文永高 | D39: 1
B40: 文永忠 | D40: 1.06
B41: 闫涛 | D41: 1.51
B42: 杨维银 | D42: 1.32
B43: 张光成 | D43: 1.08
A44: 卫国村 汇总 | D44: 17.38
A45: 五显村 | B45: 陈克珍 | C45: 1.58
B46: 邓昌陆 | C46: 1.1
B47: 黄定盆 | D47: 1.89
B48: 兰代斌 | D48: 1
B49: 李天军 | D49: 1
B50: 李泽华 | D50: 1.8
B51: 李泽伦 | D51: 1.46
B52: 刘登厚 | D52: 1.8
B53: 刘国厚 | D53: 1.6
B54: 刘平 | D54: 3.1
B55: 刘松明 | D55: 5.35
B56: 刘兴文 | D56: 1
B57: 刘兴远 | D57: 1.1
B58: 柳连友 | D58: 4.05
... B63: 欧万银 | D63: 1.5
B64: 谭国纯 | C64: 1.66
B65: 谭益凯 | D65: 1.99
B66: 谭益志 | D66: 3.85
B67: 唐国宣 | D67: 1
B68: 王佰云 | C68: 1.99
B69: 王炳光 | C69: 1
B70: 王胜才 | D70: 1.41
B71: 王先庭 | C71: 4.05 | D71: 5.38
B72: 王先洲 | D72: 2.91
B73: 王秀琼 | D73: 5.3
B74: 王学东 | D74: 1.3
B75: 王勇 | D75: 1.2
B76: 王尊林 | D76: 9.04
B77: 王尊六 | D77: 19.19
B78: 杨定斌 | D78: 4.07
B79: 杨永珍 | D79: 1.96
B80: 余胜良 | D80: 2
B81: 袁绪安 | C81: 1
B82: 赵成明 | D82: 16.31
B83: 赵银军 | D83: 4
A84: 五显村 汇总 | C84: 12.38 | D84: 114.46
A85: 莺歌村 | B85: 陈历满 | D85: 17.2
A86: 莺歌村 汇总 | D86: 17.2
A87: 总计 | C87: 56.99 | D87: 218.53

Sheet zhong
A2: 乐山随芋而安劳务服务有限公司 | B2: 2.43 | C2: 30.05
A3: 乐山鑫亚晟农业发展有限责任公司 | B3: 79.82 | C3: 37.79
A4: 乐芋家庭农场 | B4: 42.5 | C4: 8.9
A5: 沐川西大魔芋生物科技有限公司 | B5: 197.75 | C5: 17.35
A6: 沐川县阿文家庭农场 | C6: =192.05-0.34 -> 191.71
A7: 沐川县才平家庭农场
A8: 沐川县根尚家庭农场 | C8: 15.7
A9: 沐川县禾立家庭农场 | C9: 29.2
A10: 沐川县宏升魔芋种植专业合作社 | B10: 7.73 | C10: 21.1
A11: 沐川县宏杨魔芋种植专业合作社 | B11: 2.7 | C11: 48.35
A12: 沐川县鸿泰魔芋种植专业合作社 | C12: 4
A13: 沐川县铭德种养殖场 | B13: 56.27 | C13: 138.35
A14: 沐川县农耕魔芋种植专业合作社 | C14: 77.55
A15: 沐川县潘飞种植场
A16: 沐川县泉涌农场 | B16: 1 | C16: 41.57
A17: 沐川县蜀禾魔芋种植专业合作社 | C17: 14.43
A18: 沐川县鑫旺达魔芋种植专业合作社 | C18: 5
A19: 邓昌奎 | C19: 1
A20: 邓仕和 | C20: 1.3
A21: 邓仕奇 | C21: 2.32
A22: 邓仕雄 | C22: 2
A23: 邓仕宣 | B23: 1.47
A24: 古成军 | B24: 0.59 | C24: 1.04
A25: 兰吉林 | B25: 1.31 | C25: 0.94
A26: 李代容 | C26: 3.1
A27: 李光军 | C27: 2.7
A28: 廖朝兴 | C28: 4.01
A29: 廖树银 | B29: 1.08
A30: 廖廷交 | B30: 2.17
A31: 刘兴全 | C31: 11.88
A32: 汤富奎 | C32: 6.22
A33: 王万银 | B33: 0.52 | C33: 0.5
A34: 王显林 | B34: 1.45 | C34: 0.5
A35: 王显强 | B35: 1.15
A36: 王显勇 | C36: 1.6
A37: 王旭红 | B37: 1
A38: 徐泽洲 | C38: 1.37
A39: 杨定双 | B39: 0.22 | C39: 0.99
A40: 悦勋华 | B40: 1.86
A41: 张加兴 | C41: 1.02
A42: 周仕琼 | C42: 2
A43: 陈贵平 | C43: 2.97
A44: 陈辉亮 | C44: 1.36
A45: 陈辉渠 | B45: 3.89
A46: 邓昌文 | B46: 8.3
A47: 黄应平 | B47: 2.28
A48: 廖策华 | B48: 10.3
A49: 牟玉明 | C49: 6.78
A50: 王明才 | B50: 7.02 | C50: 12.89
A51: 王勇 | C51: 1
A52: 胡理贵 | C52: 8.88
A53: 王治洪 | C53: 1.5
A54: 王自高 | C54: 1.03
A55: 文永高 | C55: 1
A56: 文永忠 | C56: 1.06
A57: 闫涛 | C57: 1.51
A58: 杨维银 | C58: 1.32
A59: 张光成 | C59: 1.08
A60: 陈克珍 | B60: 1.58
A61: 邓昌陆 | B61: 1.1
A62: 黄定盆 | C62: 1.89
A63: 兰代斌 | C63: 1
A64: 李天军 | C64: 1
A65: 李泽华 | C65: 1.8
A66: 李泽伦 | C66: 1.46
A67: 刘登厚 | C67: 1.8
A68: 刘国厚 | C68: 1.6
A69: 刘平 | C69: 3.1
A70: 刘松明 | C70: 5.35
A71: 刘兴文 | C71: 1
A72: 刘兴远 | C72: 1.1
A73: 柳连友 | C73: 4.05
... A78: 欧万银 | C78: 1.5
A79: 谭国纯 | B79: 1.66
A80: 谭益凯 | C80: 1.99
A81: 谭益志 | C81: 3.85
A82: 唐国宣 | C82: 1
A83: 王佰云 | B83: 1.99
A84: 王炳光 | B84: 1
A85: 王胜才 | C85: 1.41
A86: 王先庭 | B86: 4.05 | C86: 5.38
A87: 王先洲 | C87: 2.91
A88: 王秀琼 | C88: 5.3
A89: 王学东 | C89: 1.3
A90: 王勇 | C90: 1.2
A91: 王尊林 | C91: 9.04
A92: 王尊六 | C92: 19.19
A93: 杨定斌 | C93: 4.07
A94: 杨永珍 | C94: 1.96
A95: 余胜良 | C95: 2
A96: 袁绪安 | B96: 1
A97: 赵成明 | C97: 16.31
A98: 赵银军 | C98: 4
A99: 陈历满 | C99: 17.2
