Workbook

Sheet Sheet1
A1: 附件 魔芋基地建设情况表（第二批）
A2: 序号 | B2: 乡镇 | C2: 主体 | D2: 魔芋基地（亩） | F2: 合计（亩） | G2: 备注
D3: 种芋 | E3: 商品芋
A4: 1 | B4: 永福镇 | C4: 沐川才银魔芋种植专业合作社 | D4: 309.33 | E4: 88.48 | F4: =D4+E4 -> 397.81
A5: 2 | C5: 雷朝强 | D5: 8.1 | F5: =D5+E5 -> 8.1
A6: 3 | C6: 代光清 | D6: 3 | F6: =D6+E6 -> 3
A7: 4 | C7: 王本章 | D7: 1.05 | F7: =D7+E7 -> 1.05
A8: 5 | C8: 沐川水沐连华魔芋种植专业合作社 | D8: 249.82 | E8: 84.51 | F8: =D8+E8 -> 334.33
A9: 6 | C9: 沐川县富隆种植专业合作社 | D9: 124 | F9: =D9+E9 -> 124
A10: 7 | C10: 沐川县青平家庭农场 | D10: 50 | E10: 50 | F10: =D10+E10 -> 100
A11: 8 | C11: 代岭君 | D11: 29.94 | F11: =D11+E11 -> 29.94
A12: 9 | C12: 曹立伦 | D12: 3.2 | F12: =D12+E12 -> 3.2
A13: 10 | C13: 侯成礼 | D13: 18.43 | E13: 4.17 | F13: =D13+E13 -> 22.6
A14: 11 | C14: 侯杰 | D14: 1.76 | F14: =D14+E14 -> 1.76
A15: 12 | C15: 沐川县程鑫蔬菜种植场 | D15: 129.85 | E15: 71.76 | F15: =D15+E15 -> 201.61
A16: 13 | C16: 沐川县永发蔬菜种植合作社 | D16: 121.7 | E16: 5.2 | F16: =D16+E16 -> 126.9
A17: 14 | C17: 沐川县韦佐洪种植家庭农场(个体工商户) | D17: 170.39 | E17: 23.5 | F17: =D17+E17 -> 193.89
A18: 15 | C18: 沐川县吴俊建种植家庭农场(个体工商户) | D18: 192.81 | E18: 17.5 | F18: =D18+E18 -> 210.31
A19: 16 | C19: 杨国君 | D19: 64.56 | E19: 5.12 | F19: =D19+E19 -> 69.68
A20: 17 | B20: 利店镇 | C20: 罗光银 | E20: 3 | F20: =D20+E20 -> 3
A21: 18 | C21: 宋开友 | E21: 5.22 | F21: =D21+E21 -> 5.22
A22: 19 | B22: 底堡乡 | C22: 乐山随芋而安劳务服务有限公司 | D22: 2.43 | E22: 30.05 | F22: =D22+E22 -> 32.48
A23: 20 | C23: 乐山鑫亚晟农业发展有限责任公司 | D23: 79.82 | E23: 37.79 | F23: =D23+E23 -> 117.61
A24: 21 | C24: 乐芋家庭农场 | D24: 42.5 | E24: 8.9 | F24: =D24+E24 -> 51.4
A25: 22 | C25: 沐川西大魔芋生物科技有限公司 | D25: 197.75 | E25: 17.35 | F25: =D25+E25 -> 215.1
A26: 23 | C26: 沐川县阿文家庭农场 | E26: =192.05-0.34 -> 191.71 | F26: =D26+E26 -> 191.71
A27: 24 | C27: 沐川县根尚家庭农场 | E27: 15.7 | F27: =D27+E27 -> 15.7
A28: 25 | C28: 沐川县禾立家庭农场 | E28: 29.2 | F28: =D28+E28 -> 29.2
A29: 26 | C29: 沐川县宏升魔芋种植专业合作社 | D29: 7.73 | E29: 21.1 | F29: =D29+E29 -> 28.83
A30: 27 | C30: 沐川县宏杨魔芋种植专业合作社 | D30: 2.7 | E30: 48.35 | F30: =D30+E30 -> 51.05
A31: 28 | C31: 沐川县鸿泰魔芋种植专业合作社 | E31: 4 | F31: =D31+E31 -> 4
A32: 29 | C32: 沐川县铭德种养殖场 | D32: 56.27 | E32: 138.35 | F32: =D32+E32 -> 194.62
A33: 30 | C33: 沐川县农耕魔芋种植专业合作社 | E33: 77.55 | F33: =D33+E33 -> 77.55
A34: 31 | C34: 沐川县泉涌农场 | D34: 1 | E34: 41.57 | F34: =D34+E34 -> 42.57
A35: 32 | C35: 沐川县蜀禾魔芋种植专业合作社 | E35: 14.43 | F35: =D35+E35 -> 14.43
A36: 33 | C36: 沐川县鑫旺达魔芋种植专业合作社 | E36: 5 | F36: =D36+E36 -> 5
A37: 34 | C37: 邓昌奎 | E37: 1 | F37: =D37+E37 -> 1
A38: 35 | C38: 邓仕和 | E38: 1.3 | F38: =D38+E38 -> 1.3
A39: 36 | C39: 邓仕奇 | E39: 2.32 | F39: =D39+E39 -> 2.32
A40: 37 | C40: 邓仕雄 | E40: 2 | F40: =D40+E40 -> 2
...

Sheet Sheet2
A1: 主体 | B1: 种芋/商品芋 | C1: 面积（亩）
A2: 乐山鑫亚晟农业发展有限责任公司 | B2: 商品芋 | C2: 6.84
A3: 乐山鑫亚晟农业发展有限责任公司 | B3: 种芋 | C3: 7.5
A4: 乐山鑫亚晟农业发展有限责任公司 | B4: 种芋 | C4: 0.38
A5: 乐山鑫亚晟农业发展有限责任公司 | B5: 种芋 | C5: 2.93
A6: 乐山鑫亚晟农业发展有限责任公司 | B6: 种芋 | C6: 3.96
A7: 乐山鑫亚晟农业发展有限责任公司 | B7: 种芋 | C7: 5.66
A8: 乐山鑫亚晟农业发展有限责任公司 | B8: 种芋 | C8: 5.27
A9: 乐山鑫亚晟农业发展有限责任公司 | B9: 商品芋 | C9: 5.91
A10: 乐山鑫亚晟农业发展有限责任公司 | B10: 商品芋 | C10: 10.28
A11: 乐山鑫亚晟农业发展有限责任公司 | B11: 种芋 | C11: 8.93
A12: 乐山鑫亚晟农业发展有限责任公司 | B12: 商品芋 | C12: 5.97
A13: 乐山鑫亚晟农业发展有限责任公司 | B13: 种芋 | C13: 5.26
... A341: 王万银 | B341: 种芋 | C341: 0.52
C342: 2189.45

Sheet Sheet6
C1: 种芋
A2: 乐山鑫亚晟农业发展有限责任公司 汇总 | B2: =LEFT(A2,LEN(A2)-2) -> 乐山鑫亚晟农业发展有限责任公司 | C2: =VLOOKUP(A2,Sheet9!$1:$1048576,2,1) -> 8.3 | D2: 37.79
A3: 沐川县宏杨魔芋种植专业合作社 汇总 | B3: =LEFT(A3,LEN(A3)-2) -> 沐川县宏杨魔芋种植专业合作社 | C3: =VLOOKUP(A3,Sheet9!$1:$1048576,2,1) -> 10.3 | D3: 58.35
A4: 沐川西大魔芋生物科技有限公司 汇总 | B4: =LEFT(A4,LEN(A4)-2) -> 沐川西大魔芋生物科技有限公司 | C4: =VLOOKUP(A4,Sheet9!$1:$1048576,2,1) -> 10.3 | D4: 18.35
A5: 乐山随芋而安劳务服务有限公司 汇总 | B5: =LEFT(A5,LEN(A5)-2) -> 乐山随芋而安劳务服务有限公司 | C5: =VLOOKUP(A5,Sheet9!$1:$1048576,2,1) -> 8.3 | D5: 42.55
A6: 沐川县潘飞种植场 汇总 | B6: =LEFT(A6,LEN(A6)-2) -> 沐川县潘飞种植场 | C6: =VLOOKUP(A6,Sheet9!$1:$1048576,2,1) -> 10.3 | D6: 105
A7: 沐川县泉涌农场 汇总 | B7: =LEFT(A7,LEN(A7)-2) -> 沐川县泉涌农场 | C7: =VLOOKUP(A7,Sheet9!$1:$1048576,2,1) -> 10.3 | D7: 81.08
A8: 乐芋家庭农场 汇总 | B8: =LEFT(A8,LEN(A8)-2) -> 乐芋家庭农场 | C8: =VLOOKUP(A8,Sheet9!$1:$1048576,2,1) -> 8.3 | D8: 10.9
A9: 沐川县禾立家庭农场 汇总 | B9: =LEFT(A9,LEN(A9)-2) -> 沐川县禾立家庭农场 | C9: =VLOOKUP(A9,Sheet9!$1:$1048576,2,1) -> 10.3 | D9: 50.2
A10: 沐川县阿文家庭农场 汇总 | B10: =LEFT(A10,LEN(A10)-2) -> 沐川县阿文家庭农场 | C10: =VLOOKUP(A10,Sheet9!$1:$1048576,2,1) -> 10.3 | D10: 222.89
A11: 沐川县蜀禾魔芋种植专业合作社 汇总 | B11: =LEFT(A11,LEN(A11)-2) -> 沐川县蜀禾魔芋种植专业合作社 | C11: =VLOOKUP(A11,Sheet9!$1:$1048576,2,1) -> 10.3 | D11: 84.43
A12: 沐川县宏升魔芋种植专业合作社 汇总 | B12: =LEFT(A12,LEN(A12)-2) -> 沐川县宏升魔芋种植专业合作社 | C12: =VLOOKUP(A12,Sheet9!$1:$1048576,2,1) -> 10.3 | D12: 171.1
A13: 沐川县铭德种养殖场 汇总 | B13: =LEFT(A13,LEN(A13)-2) -> 沐川县铭德种养殖场 | C13: =VLOOKUP(A13,Sheet9!$1:$1048576,2,1) -> 10.3 | D13: 164.85
... A18: 王明才 汇总 | B18: =LEFT(A18,LEN(A18)-2) -> 王明才 | C18: =VLOOKUP(A18,Sheet9!$1:$1048576,2,1) -> 10.3 | D18: 12.89
A19: 陈贵平 汇总 | B19: =LEFT(A19,LEN(A19)-2) -> 陈贵平 | C19: 0 | D19: 2.97
A20: 陈辉亮 汇总 | B20: =LEFT(A20,LEN(A20)-2) -> 陈辉亮 | C20: 0 | D20: 1.36
A21: 牟玉明 汇总 | B21: =LEFT(A21,LEN(A21)-2) -> 牟玉明 | C21: =VLOOKUP(A21,Sheet9!$1:$1048576,2,1) -> 10.3 | D21: 6.78
A22: 王勇 汇总 | B22: =LEFT(A22,LEN(A22)-2) -> 王勇 | C22: =VLOOKUP(A22,Sheet9!$1:$1048576,2,1) -> 0.52 | D22: 1
A23: 刘兴全 汇总 | B23: =LEFT(A23,LEN(A23)-2) -> 刘兴全 | C23: =VLOOKUP(A23,Sheet9!$1:$1048576,2,1) -> 10.3 | D23: 11.88
A24: 兰吉林 汇总 | B24: =LEFT(A24,LEN(A24)-2) -> 兰吉林 | C24: =VLOOKUP(A24,Sheet9!$1:$1048576,2,1) -> 8.3 | D24: 0.94
A25: 王显林 汇总 | B25: =LEFT(A25,LEN(A25)-2) -> 王显林 | C25: =VLOOKUP(A25,Sheet9!$1:$1048576,2,1) -> 0.52 | D25: 0.5
A26: 杨定双 汇总 | B26: =LEFT(A26,LEN(A26)-2) -> 杨定双 | C26: =VLOOKUP(A26,Sheet9!$1:$1048576,2,1) -> 0.52 | D26: 0.99
A27: 古成军 汇总 | B27: =LEFT(A27,LEN(A27)-2) -> 古成军 | C27: =VLOOKUP(A27,Sheet9!$1:$1048576,2,1) -> 8.3 | D27: 1.04
A28: 廖朝兴 汇总 | B28: =LEFT(A28,LEN(A28)-2) -> 廖朝兴 | C28: =VLOOKUP(A28,Sheet9!$1:$1048576,2,1) -> 10.3 | D28: 4.01
A29: 邓昌奎 汇总 | B29: =LEFT(A29,LEN(A29)-2) -> 邓昌奎 | C29: 0 | D29: 1
A30: 张加兴 汇总 | B30: =LEFT(A30,LEN(A30)-2) -> 张加兴 | C30: =VLOOKUP(A30,Sheet9!$1:$1048576,2,1) -> 0.52 | D30: 1.02
A31: 邓仕雄 汇总 | B31: =LEFT(A31,LEN(A31)-2) -> 邓仕雄 | C31: =VLOOKUP(A31,Sheet9!$1:$1048576,2,1) -> 8.3 | D31: 2
A32: 邓仕和 汇总 | B32: =LEFT(A32,LEN(A32)-2) -> 邓仕和 | C32: =VLOOKUP(A32,Sheet9!$1:$1048576,2,1) -> 8.3 | D32: 1.3
A33: 汤富奎 汇总 | B33: =LEFT(A33,LEN(A33)-2) -> 汤富奎 | C33: =VLOOKUP(A33,Sheet9!$1:$1048576,2,1) -> 10.3 | D33: 6.22
A34: 王显勇 汇总 | B34: =LEFT(A34,LEN(A34)-2) -> 王显勇 | C34: =VLOOKUP(A34,Sheet9!$1:$1048576,2,1) -> 0.52 | D34: 1.6
A35: 李代容 汇总 | B35: =LEFT(A35,LEN(A35)-2) -> 李代容 | C35: =VLOOKUP(A35,Sheet9!$1:$1048576,2,1) -> 8.3 | D35: 3.1
A36: 周仕琼 汇总 | B36: =LEFT(A36,LEN(A36)-2) -> 周仕琼 | C36: =VLOOKUP(A36,Sheet9!$1:$1048576,2,1) -> 0.52 | D36: 2
A37: 邓仕奇 汇总 | B37: =LEFT(A37,LEN(A37)-2) -> 邓仕奇 | C37: =VLOOKUP(A37,Sheet9!$1:$1048576,2,1) -> 8.3 | D37: 2.32
A38: 李光军 汇总 | B38: =LEFT(A38,LEN(A38)-2) -> 李光军 | C38: =VLOOKUP(A38,Sheet9!$1:$1048576,2,1) -> 8.3 | D38: 2.7
A39: 胡理贵 汇总 | B39: =LEFT(A39,LEN(A39)-2) -> 胡理贵 | C39: =VLOOKUP(A39,Sheet9!$1:$1048576,2,1) -> 8.3 | D39: 8.88
A40: 张光成 汇总 | B40: =LEFT(A40,LEN(A40)-2) -> 张光成 | C40: =VLOOKUP(A40,Sheet9!$1:$1048576,2,1) -> 0.52 | D40: 1.08
A41: 王自高 汇总 | B41: =LEFT(A41,LEN(A41)-2) -> 王自高 | C41: =VLOOKUP(A41,Sheet9!$1:$1048576,2,1) -> 0.52 | D41: 1.03
... A78: 罗应平 汇总 | B78: =LEFT(A78,LEN(A78)-2) -> 罗应平 | C78: =VLOOKUP(A78,Sheet9!$1:$1048576,2,1) -> 10.3 | D78: 1
A79: 陈历满 汇总 | B79: =LEFT(A79,LEN(A79)-2) -> 陈历满 | C79: 0 | D79: 17.2
A80: 徐泽洲 汇总 | B80: =LEFT(A80,LEN(A80)-2) -> 徐泽洲 | C80: =VLOOKUP(A80,Sheet9!$1:$1048576,2,1) -> 0.52 | D80: 1.37
...

Sheet Sheet9
A1: 乐山鑫亚晟农业发展有限责任公司 汇总 | B1: 79.82
A2: 沐川县宏杨魔芋种植专业合作社 汇总 | B2: 2.7
A3: 沐川西大魔芋生物科技有限公司 汇总 | B3: 198.95
A4: 乐山随芋而安劳务服务有限公司 汇总 | B4: 2.43
A5: 沐川县才平家庭农场 汇总 | B5: 72
A6: 沐川县潘飞种植场 汇总 | B6: 3
A7: 沐川县泉涌农场 汇总 | B7: 20.61
A8: 乐芋家庭农场 汇总 | B8: 43.8
A9: 沐川县阿文家庭农场 汇总 | B9: 3
A10: 沐川县宏升魔芋种植专业合作社 汇总 | B10: 7.73
A11: 沐川县铭德种养殖场 汇总 | B11: 77.69
A12: 王明才 汇总 | B12: 7.02
... A34: 王万银 汇总 | B34: 0.52

Sheet Sheet10
A1: 邓昌奎
A2: 邓仕和
A3: 邓仕奇
A4: 邓仕雄
A5: 邓仕宣
A6: 古成军
A7: 兰吉林
A8: 李代容
A9: 李光军
A10: 廖朝兴
A11: 廖树银
A12: 廖廷交
... A81: 陈历满

Sheet Sheet11
A1: 龙沱村 | B1: 邓昌奎 | D1: 1
B2: 邓仕和 | D2: 1.3
B3: 邓仕奇 | D3: 2.32
B4: 邓仕雄 | D4: 2
B5: 邓仕宣 | C5: 1.47
B6: 古成军 | C6: 0.59 | D6: 1.04
B7: 兰吉林 | C7: 1.31 | D7: 0.94
B8: 李代容 | D8: 3.1
B9: 李光军 | D9: 2.7
B10: 廖朝兴 | D10: 4.01
B11: 廖树银 | C11: 1.08
B12: 廖廷交 | C12: 2.17
B13: 刘兴全 | D13: 11.88
B14: 汤富奎 | D14: 6.22
B15: 王万银 | C15: 0.52 | D15: 0.5
B16: 王显林 | C16: 1.45 | D16: 0.5
B17: 王显强 | C17: 1.15
B18: 王显勇 | D18: 1.6
B19: 王旭红 | C19: 1
B20: 徐泽洲 | D20: 1.37
B21: 杨定双 | C21: 0.22 | D21: 0.99
B22: 悦勋华 | C22: 1.86
B23: 张加兴 | D23: 1.02
B24: 周仕琼 | D24: 2
A25: 龙沱村 汇总 | C25: 12.82 | D25: 44.49
A26: 水月村 | B26: 陈贵平 | D26: 2.97
B27: 陈辉亮 | D27: 1.36
B28: 陈辉渠 | C28: 3.89
B29: 邓昌文 | C29: 8.3
B30: 黄应平 | C30: 2.28
B31: 廖策华 | C31: 10.3
B32: 牟玉明 | D32: 6.78
B33: 王明才 | C33: 7.02 | D33: 12.89
B34: 王勇 | D34: 1
A35: 水月村 汇总 | C35: 31.79 | D35: 25
A36: 卫国村 | B36: 胡理贵 | D36: 8.88
B37: 王治洪 | D37: 1.5
B38: 王自高 | D38: 1.03
B39: 文永高 | D39: 1
B40: 文永忠 | D40: 1.06
...

Sheet zhong
A2: 乐山随芋而安劳务服务有限公司 | B2: 2.43 | C2: 30.05
A3: 乐山鑫亚晟农业发展有限责任公司 | B3: 79.82 | C3: 37.79
A4: 乐芋家庭农场 | B4: 42.5 | C4: 8.9
A5: 沐川西大魔芋生物科技有限公司 | B5: 197.75 | C5: 17.35
A6: 沐川县阿文家庭农场 | C6: =192.05-0.34 -> 191.71
A7: 沐川县才平家庭农场
A8: 沐川县根尚家庭农场 | C8: 15.7
A9: 沐川县禾立家庭农场 | C9: 29.2
A10: 沐川县宏升魔芋种植专业合作社 | B10: 7.73 | C10: 21.1
A11: 沐川县宏杨魔芋种植专业合作社 | B11: 2.7 | C11: 48.35
A12: 沐川县鸿泰魔芋种植专业合作社 | C12: 4
A13: 沐川县铭德种养殖场 | B13: 56.27 | C13: 138.35
A14: 沐川县农耕魔芋种植专业合作社 | C14: 77.55
A15: 沐川县潘飞种植场
A16: 沐川县泉涌农场 | B16: 1 | C16: 41.57
A17: 沐川县蜀禾魔芋种植专业合作社 | C17: 14.43
A18: 沐川县鑫旺达魔芋种植专业合作社 | C18: 5
A19: 邓昌奎 | C19: 1
A20: 邓仕和 | C20: 1.3
A21: 邓仕奇 | C21: 2.32
A22: 邓仕雄 | C22: 2
A23: 邓仕宣 | B23: 1.47
A24: 古成军 | B24: 0.59 | C24: 1.04
A25: 兰吉林 | B25: 1.31 | C25: 0.94
A26: 李代容 | C26: 3.1
A27: 李光军 | C27: 2.7
A28: 廖朝兴 | C28: 4.01
A29: 廖树银 | B29: 1.08
A30: 廖廷交 | B30: 2.17
A31: 刘兴全 | C31: 11.88
A32: 汤富奎 | C32: 6.22
A33: 王万银 | B33: 0.52 | C33: 0.5
A34: 王显林 | B34: 1.45 | C34: 0.5
A35: 王显强 | B35: 1.15
A36: 王显勇 | C36: 1.6
A37: 王旭红 | B37: 1
A38: 徐泽洲 | C38: 1.37
A39: 杨定双 | B39: 0.22 | C39: 0.99
A40: 悦勋华 | B40: 1.86
A41: 张加兴 | C41: 1.02
...
